BEGIN:VCALENDAR
VERSION:2.0
PRODID:gruene-werne.de
METHOD:PUBLISH
BEGIN:VTIMEZONE
TZID:Europe/Berlin
X-LIC-LOCATION:Europe/Berlin
BEGIN:DAYLIGHT
TZOFFSETFROM:+0100
TZOFFSETTO:+0200
TZNAME:CEST
DTSTART:19700329T020000
RRULE:FREQ=YEARLY;INTERVAL=1;BYDAY=-1SU;BYMONTH=3
END:DAYLIGHT
BEGIN:STANDARD
TZOFFSETFROM:+0200
TZOFFSETTO:+0100
TZNAME:CET
DTSTART:19701025T030000
RRULE:FREQ=YEARLY;INTERVAL=1;BYDAY=-1SU;BYMONTH=10
END:STANDARD
END:VTIMEZONE
BEGIN:VEVENT
UID:6d3c210b8b887c660c62ae63b81641f7@gruene-werne.de
URL;VALUE=URI:https://gruene-werne.de/termine/haupt-und-finanzausschuss-3
 /
LOCATION:kleinen Sitzungsraum im Erdgeschoss des Stadthauses, Stadt Werne
SUMMARY:<a href="https://buergerinfo.werne.de/sessionnet/buergerinfo/si00
 57.asp?__ksinr=3223">Haupt- und Finanzausschuss</a>
DESCRIPTION;ALTREP="data:text/html,":
CLASS:PUBLIC
DTSTART;TZID=Europe/Berlin:20230209
DTEND;TZID=Europe/Berlin:20230209
DTSTAMP:20260419T154036
END:VEVENT
END:VCALENDAR